
BEGIN:VCALENDAR
VERSION:2.0
PRODID:-//Fryslan Werkt - ECPv6.15.20//NONSGML v1.0//EN
CALSCALE:GREGORIAN
METHOD:PUBLISH
X-WR-CALNAME:Fryslan Werkt
X-ORIGINAL-URL:https://fryslanwerkt.nl
X-WR-CALDESC:Evenementen voor Fryslan Werkt
REFRESH-INTERVAL;VALUE=DURATION:PT1H
X-Robots-Tag:noindex
X-PUBLISHED-TTL:PT1H
BEGIN:VTIMEZONE
TZID:Europe/Amsterdam
BEGIN:DAYLIGHT
TZOFFSETFROM:+0100
TZOFFSETTO:+0200
TZNAME:CEST
DTSTART:20250330T010000
END:DAYLIGHT
BEGIN:STANDARD
TZOFFSETFROM:+0200
TZOFFSETTO:+0100
TZNAME:CET
DTSTART:20251026T010000
END:STANDARD
BEGIN:DAYLIGHT
TZOFFSETFROM:+0100
TZOFFSETTO:+0200
TZNAME:CEST
DTSTART:20260329T010000
END:DAYLIGHT
BEGIN:STANDARD
TZOFFSETFROM:+0200
TZOFFSETTO:+0100
TZNAME:CET
DTSTART:20261025T010000
END:STANDARD
BEGIN:DAYLIGHT
TZOFFSETFROM:+0100
TZOFFSETTO:+0200
TZNAME:CEST
DTSTART:20270328T010000
END:DAYLIGHT
BEGIN:STANDARD
TZOFFSETFROM:+0200
TZOFFSETTO:+0100
TZNAME:CET
DTSTART:20271031T010000
END:STANDARD
END:VTIMEZONE
BEGIN:VEVENT
DTSTART;TZID=Europe/Amsterdam:20260326T140000
DTEND;TZID=Europe/Amsterdam:20260326T180000
DTSTAMP:20260421T191229
CREATED:20260120T140744Z
LAST-MODIFIED:20260120T141118Z
UID:7298-1774533600-1774548000@fryslanwerkt.nl
SUMMARY:Netwerkbijeenkomst VSO•PRO
DESCRIPTION:Een inspirerende middag waarin we samen met alle Friese VSO & PRO scholen kansen voor onze jongeren bespreken en jullie kennis willen laten maken met de nieuwe stuurgroep VSO•PRO.  \n\n\n\nThema’s deze middag: het zelf aannemen van schoolverlaters\, de Wet van school naar duurzaam werk & de rol van de landelijke kwartiermaker. Daarnaast is er volop ruimte om met elkaar te netwerken. \n\n\n\nVoor directeuren & teamleiders\n\n\n\nDeze bijeenkomst is bedoeld voor alle directeuren en teamleiders van de Friese VSO- & PRO-scholen.  \n\n\n\n\n\n  \n    \n\n                \n            Ik meld me aan voor deze bijeenkomst                      \n      \n    \n\n  \n \n\n\n\n\n\n  \n      \n\n                  \n                          \n        \n        \n          \n          Vragen of opmerkingen?           \n                    \n                    \n            \n              \n\n                Elsina Zwittink\n                                  elsina.zwittink@fryslanwerkt.nl\n                                    \n                                      06-43365437\n                                \n\n          \n                    \n\n\n\n        \n\n      \n  \n \n\n\n\n\n \n\n\n\n\n\n\n  \n  \n\n    \n      Andere events\n       \n      \n    \n\n    \n\n    \n      \n\n      \n                                        \n                    \n\n\n\n    \n\n        \n        \n                    \n\n                \n\n    \n\n                \n        \n        \n            Krachttoer 2026: De kracht van samenwerken        \n\n        Een event bomvol inspiratie en netwerken voor alle collega’s van de netwerkpartners van Fryslân Werkt.  \n\n        \n            Lees meer
URL:https://fryslanwerkt.nl/agenda/netwerkbijeenkomst-vsopro/
ATTACH;FMTTYPE=image/jpeg:https://fryslanwerkt.nl/wp-content/uploads/2026/01/ING_33594_246626-scaled.jpg
END:VEVENT
BEGIN:VEVENT
DTSTART;TZID=Europe/Amsterdam:20260409T130000
DTEND;TZID=Europe/Amsterdam:20260409T170000
DTSTAMP:20260421T191229
CREATED:20250422T065906Z
LAST-MODIFIED:20260310T084329Z
UID:6480-1775739600-1775754000@fryslanwerkt.nl
SUMMARY:Krachttoer 2026: De kracht van samenwerken
DESCRIPTION:Op 9 april 2026 organiseren we de 4e editie van Krachttoer. Deze editie organiseren we speciaal voor alle medewerkers van onze netwerkpartners. We hopen dat jullie ook dit jaar weer een kruiwagen vol goede ideeën en inspiratie mee naar huis nemen. Samen gaan we aan de slag! \n\n\n\n\n\n  \n    \n\n                \n            Ik meld me aan voor Krachttoer 2026                      \n      \n    \n\n  \n \n\n\n \n\n\n\nWat kun je verwachten?\n\n\n\nHoofspreker Eva Brouwer: Fan ik nei mienskip – Waarom samenwerking pas werkt wanneer niemand meer wacht Samenwerking staat overal op de agenda. In plannen\, programma’s en netwerkafspraken wordt het voortdurend benoemd. Maar in de praktijk herkennen veel mensen hetzelfde moment: iedereen vindt het belangrijk… en ondertussen wachten we toch net even tot iemand anders begint.Niet uit onwil\, maar omdat we allemaal ergens vandaan komen\, een organisatie vertegenwoordigen en niet altijd weten wanneer iets écht van ons wordt. Wanneer wordt samenwerking eigenlijk van ons?Eva laat zien wat er verandert wanneer mensen niet alleen deelnemen aan een netwerk\, maar zich er werkelijk onderdeel van voelen. Met humor\, herkenbare situaties en een onverwachte blik uit de Friese (!) geschiedenis neemt zij je mee naar de kern van eigenaarschap en samenwerking. Want echte samenwerking begint op het moment dat niemand meer wacht.   \n\n\n\n\n\n\n  \n      \n\n                  \n                          \n        \n        \n          \n          Eva Brouwer          Eva is historicus\, keynote spreker en expert in storytelling en Talk Leadership.\nIn haar keynotes laat zij zien waarom grote vraagstukken zelden vastlopen op inhoud\, maar bijna altijd op menselijk gedrag en hoe taal en de juiste verhalen een brug vormen. \nMet humor\, scherpe observaties en verrassende historische verhalen maakt zij abstracte thema’s herkenbaar en concreet. Ze staat bekend om keynotes die energie geven\, aan het denken zetten en nog lang blijven hangen.\n \n                    \n                    \n            \n              \n\n                \n                                  \n                                \n\n          \n                    \n\n\n\n        \n\n      \n  \n \n\n\n \n\n\n\nWorkshop Marijn Dane: Alle kikkers in één kruiwagen – Van plan naar praktijk Plannen genoeg. Ambities ook. Maar hoe zorg je dat het niet bij woorden blijft? Dat je samen beweegt en verwachtingen worden waargemaakt.In deze workshop ervaar je wat ons kikkerbrein stuurt en motiveert om actief samen te werken. Je krijgt handvatten om de ambities van plan echt naar de praktijk te brengen. Interactief\, eerlijk en met humor. Je loopt de zaal uit met minimaal één concrete tip waar je morgen al je voordeel mee kunt doen.   \n\n\n\n\n\n\n  \n      \n\n                  \n                          \n        \n        \n          \n          Marijn Dane          Marijn is een energieke en inspirerende trainer\, die complexe leiderschaps- en teamdilemma’s vertaalt naar concrete oplossingen. \n\nAls “gedragsalchemist\,” staat ze bekend om haar effectieve leiderschapstools en haar vermogen om frustraties om te zetten in groeikansen. Marijn is oprichtster van de NLP School en Axis Consultancy.  \n                    \n                    \n            \n              \n\n                \n                                  \n                                \n\n          \n                    \n\n\n\n        \n\n      \n  \n \n\n\n \n\n\n\nWorkshop Laura Eylen: In gesprek met Lef Je weet precies wat je zou willen zeggen. En toch doe je het niet. Je weet ook precies wat je zou willen bereiken. En toch denk je te klein.In deze workshop ga je het gesprek aan. Over wat je écht nodig hebt\, wat je écht ziet\, en waar je écht naartoe wilt. Je ontdekt dat er voorbij je comfortzone meer ruimte is dan je dacht. En dat de ander je daar kan helpen komen. Want lef is niet alleen zeggen wat gezegd moet worden. Het is ook durven denken wat je nog niet durfde te denken. En soms heeft Lef jou ook iets te zeggen.   \n\n\n\n\n\n\n  \n      \n\n                  \n                          \n        \n        \n          \n          Laura Eylen          Laura is oprichter van Hands-up Academy en leiderschapsontwikkelaar met ruim 20 jaar ervaring in organisaties. Ze is gecertificeerd NLP Master Trainer en werkt met leiders\, teams en netwerken aan eigenaarschap\, samenwerking en het gesprek dat ertoe doet. Ze helpt mensen ontdekken wat ze al in zich hebben en dat ook daadwerkelijk in te zetten.  \n                    \n                    \n            \n              \n\n                \n                                  \n                                \n\n          \n                    \n\n\n\n        \n\n      \n  \n \n\n\n \n\n\n\nVan doorspelen naar samen spelen – het vraagstuk op tafel Een interactieve workshop speciaal bedoeld voor alle bestuurders van onze netwerkpartners.    Serious game door JGM serious eXperiences JGM serious eXperiences is een serious-gaming- & trainingsbedrijf uit Leeuwarden. Zij geloven in de kracht van de combinatie tussen spelen én leren. Vandaar dat ze interactieve interventies\, zoals serious games inzetten om kennis\, proces en gedrag zichtbaar en meetbaar te maken.   \n\n\n\n\n\n  \n    \n\n                \n            Ik meld me aan voor Krachttoer 2026                      \n      \n    \n\n  \n \n\n\n \n\n\n\n\n\n\n  \n  \n\n    \n      Eerdere edities van Krachttoer\n       \n      \n    \n\n    \n\n    \n      \n\n      \n                                        \n                    \n\n\n\n    \n\n        \n        \n                    \n\n                \n\n    \n\n                \n        \n        \n            Krachttoer 2025: het zit er op!        \n\n        Ruim 300 werkgevers\, HR-managers\, jobcoaches en medewerkers van onze partners waren op 27 maart 2025 aanwezig bij Krachttoer 2025. \n\n        \n            Lees meer\n            \n        \n    \n\n  \n                  \n                                \n                    \n\n\n\n    \n\n        \n        \n                    \n\n                \n\n    \n\n                \n        \n        \n            Krachttoer 2024: het zit erop!        \n\n        Krachttoer 2024: een geslaagde middag waarbij zo’n 400 bezoekers ideeën hebben uitgewisseld\, nieuwe contacten hebben gelegd en kennis hebben opgedaan over werk en de Friese arbeidsmarkt. \n\n        \n            Lees meer\n            \n        \n    \n\n  \n                  \n                                \n                    \n\n\n\n    \n\n        \n        \n                    \n\n                \n\n    \n\n                \n        \n        \n            Krachttoer: het zit er op!        \n\n        Het was volle bak in Schouwburg De Lawei. Ruim 375 bezoekers hebben genoten van de verschillende inspiratiesessies\, de bijdrage van Wim Davidse over de revolutie op de arbeidsmarkt en aanstekelijk werkgeverschap\, elkaar ontmoeten en natuurlijk de borrel na afloop. \n\n        \n            Lees meer
URL:https://fryslanwerkt.nl/agenda/krachttoer-2026/
ATTACH;FMTTYPE=image/jpeg:https://fryslanwerkt.nl/wp-content/uploads/2025/04/Krachttoer-2025-47-scaled.jpg
END:VEVENT
BEGIN:VEVENT
DTSTART;TZID=Europe/Amsterdam:20260521T133000
DTEND;TZID=Europe/Amsterdam:20260521T160000
DTSTAMP:20260421T191229
CREATED:20260410T083102Z
LAST-MODIFIED:20260410T083846Z
UID:7472-1779370200-1779379200@fryslanwerkt.nl
SUMMARY:Bezoek aan COA-locatie Burgum
DESCRIPTION:Samen met het COA organiseren we op 21 mei 2026 een inspirerend en informatief bezoek aan de COA-locatie in Burgum. Tijdens deze bijeenkomst krijg je een rondleiding en nemen we je mee in de dagelijkse praktijk op deze opvanglocatie. Je ontmoet collega’s uit de regio en gaat met elkaar in gesprek over het thema  ‘Asielzoekers en statushouders aan het werk – kansen\, knelpunten en samenwerking’. Samen werken we aan het versterken van de regionale samenwerking! \n\n\n\nVoor wie is deze bijeenkomst?\n\n\n\nDeze bijeenkomst is bedoeld voor regievoerders inburgering\, accountmanagers\, COA-casemanagers en beleidsadviseurs. \n\n\n\nBijeenkomsten in mei & oktober\n\n\n\nIn mei én in oktober 2026 organiseren we steeds 3 vergelijkbare bijeenkomsten Groningen\, Fryslân & Drenthe. Kun je op 21 mei niet naar Burgum komen\, dan ben je natuurlijk van harte welkom bij een van de andere bijeenkomsten.      \n\n\n\n• 7 mei (13:30-16:00): Europaweg 8\, 9723 AS Groningen• 21 mei (13:30-16:00): Elingsloane 63\, 9251 MN Burgum• 28 mei (13:30-16:00): Wilhelmsweg (glo) 85\, 7814 VG Emmen \n\n\n\nDe data voor oktober zijn nog niet bekend\, het thema wel: ‘Het migratiebeeld – duiding\, impact en gezamenlijke opgaven’.  \n\n\n\nAanmelden\n\n\n\nEr is plek voor maximaal 15 deelnemers. Vermeld bij je aanmelding jouw voorkeursdatum en eventueel een reservemoment. \n\n\n\n\n\n  \n    \n\n                \n            Aanmelden kan bij Christianne Claessens (COA)                      \n      \n    \n\n  \n \n\n\n \n\n\n\n\n\n\n  \n      \n\n                  \n                          \n        \n        \n          \n          Wil je meer over deze bijeenkomsten weten?           \n                    \n                    \n            \n              \n\n                Angela Soepboer\n                                  angela.soepboer@fryslanwerkt.nl\n                                    \n                                      06-24779069\n                                \n\n          \n                    \n\n\n\n        \n\n      \n  \n \n\n\n\n\n\n  \n  \n\n    \n      Eerder nieuws\n       \n      \n    \n\n    \n\n    \n      \n\n              \n                \n                  \n\n\n\n    \n\n        \n        \n                    \n\n                \n\n    \n\n                \n        \n        \n            Onderzoek maatschappelijke waarde Werkcentrum Fryslân        \n\n        Om goed zicht te krijgen op wat de samenwerking binnen Werkcentrum Fryslân inwoners\, werkgevers en partners oplevert\, voert onderzoeksbureau Purpose een Maatschappelijke Kosten-Batenanalyse (MKBA) uit.  \n\n        \n            Lees meer\n            \n        \n    \n\n  \n                \n\n              \n                \n                  \n\n\n\n    \n\n        \n        \n                    \n\n                \n\n    \n\n                \n        \n        \n            Voortgangsrapportage 2025        \n\n        Deze Voortgangsrapportage beschrijft de voortgang van de 4 speerpunten uit onze Meerjarenagenda t/m het einde van 2025.  \n\n        \n            Lees meer\n            \n        \n    \n\n  \n                \n\n              \n                \n                  \n\n\n\n    \n\n        \n        \n                    \n\n                \n\n    \n\n                \n        \n        \n            Uitvoeringsagenda Regionale scholingstrajecten vastgesteld        \n\n        De uitvoeringsagenda Regionale Scholingstrajecten is op 15 januari 2026 vastgesteld door het Kernteam Fryslân Werkt. \n\n        \n            Lees meer
URL:https://fryslanwerkt.nl/agenda/bezoek-aan-coa-locatie-burgum/
ATTACH;FMTTYPE=image/jpeg:https://fryslanwerkt.nl/wp-content/uploads/2026/04/COA-Burgum.jpg
END:VEVENT
BEGIN:VEVENT
DTSTART;TZID=Europe/Amsterdam:20260602T090000
DTEND;TZID=Europe/Amsterdam:20260602T130000
DTSTAMP:20260421T191229
CREATED:20260324T135011Z
LAST-MODIFIED:20260324T135049Z
UID:7453-1780390800-1780405200@fryslanwerkt.nl
SUMMARY:Werksessie werkgeversdienstverlening
DESCRIPTION:Op dinsdag 2 juni organiseren we een 2e werksessie om verder koers te bepalen van onze gezamenlijke werkgeversdienstverlening. Ben jij betrokken bij de werkgeversdienstverlening voor een van de partners binnen Fryslân Werkt als manager\, in de uitvoering of in beleid? Dan nodigen we je van harte uit om op 2 juni de toekomst van onze werkgeversdienstverlening samen vorm te geven! \n\n\n\nWaarom deze dag?\n\n\n\nIn onze Meerjarenagenda 2025 – 2030 staat de ambitie om meer gezamenlijke werkgeversdienstverlening aan te bieden en deze te versterken.  \n\n\n\nIn deze 2e sessie willen we de resultaten\, kansen en acties uit onze werksessie van 17 februari verder uitwerken. Met de collega’s van beleid en uitvoering verdiepen we ons die dag in het gesprek met werkgevers. De eerste ervaringen waren zeer waardevol. Daarom willen we dit met meer werkgevers voortzetten. Het management werkt tijdens de sessie aan afspraken en sturing voor de gezamenlijke doelen. \n\n\n\nProgramma\n\n\n\nDeze wordt nog verder ingevuld. \n\n\n\nVoor wie?\n\n\n\nIedereen die betrokken is bij werkgeversdienstverlening vanuit een van de partners binnen Fryslân Werkt: management\, uitvoering en beleid.  \n\n\n\n\n\n  \n    \n\n                \n            Ik meld me aan voor de werksessie op 2 juni 2026                      \n      \n    \n\n  \n \n\n\n \n\n\n\n\n\n\n  \n  \n\n    \n      De laatste ontwikkelingen\n       \n      \n    \n\n    \n\n    \n      \n\n              \n                \n                  \n\n\n\n    \n\n        \n        \n                    \n\n                \n\n    \n\n                \n        \n        \n            Onderzoek maatschappelijke waarde Werkcentrum Fryslân        \n\n        Om goed zicht te krijgen op wat de samenwerking binnen Werkcentrum Fryslân inwoners\, werkgevers en partners oplevert\, voert onderzoeksbureau Purpose een Maatschappelijke Kosten-Batenanalyse (MKBA) uit.  \n\n        \n            Lees meer\n            \n        \n    \n\n  \n                \n\n              \n                \n                  \n\n\n\n    \n\n        \n        \n                    \n\n                \n\n    \n\n                \n        \n        \n            Voortgangsrapportage 2025        \n\n        Deze Voortgangsrapportage beschrijft de voortgang van de 4 speerpunten uit onze Meerjarenagenda t/m het einde van 2025.  \n\n        \n            Lees meer\n            \n        \n    \n\n  \n                \n\n              \n                \n                  \n\n\n\n    \n\n        \n        \n                    \n\n                \n\n    \n\n                \n        \n        \n            Uitvoeringsagenda Regionale scholingstrajecten vastgesteld        \n\n        De uitvoeringsagenda Regionale Scholingstrajecten is op 15 januari 2026 vastgesteld door het Kernteam Fryslân Werkt. \n\n        \n            Lees meer
URL:https://fryslanwerkt.nl/agenda/werksessie-werkgeversdienstverlening-2/
ATTACH;FMTTYPE=image/jpeg:https://fryslanwerkt.nl/wp-content/uploads/2026/03/Meerjarenagenda-Fryslan-Werkt-2025-2030_Speerpunt-2-losse-afbeelding-scaled.jpg
END:VEVENT
BEGIN:VEVENT
DTSTART;TZID=Europe/Amsterdam:20260618T120000
DTEND;TZID=Europe/Amsterdam:20260618T140000
DTSTAMP:20260421T191229
CREATED:20260421T115745Z
LAST-MODIFIED:20260421T123323Z
UID:7479-1781784000-1781791200@fryslanwerkt.nl
SUMMARY:Fitte Friezen Award 2026
DESCRIPTION:Ook in 2026 kunnen bedrijven in Fryslân strijden om de Fitte Friezen Award 2026. Welk groot én welk klein bedrijf maakt het meeste werk van fysieke\, mentale en financiële gezondheid? In 2025 won Van Wijnen de 1e prijs\, met hun breed gedragen en zichtbaar vitaliteitsbeleid\, inclusief het lef om ook de moeilijke thema’s aan te pakken. \n\n\n\nDe werkgevers die zich dit jaar aanmelden om mee te doen aan de Fitte Friezen Award vullen een vragenlijst in over wat ze allemaal doen om hun werknemers te ondersteunen en te bemoedigen om gezond en veerkrachtig te leven en te werken.  \n\n\n\nOndanks het competitieve karakter is de Fitte Friezen Award vooral een wedstrijd met alleen maar winnaars\, namelijk bedrijven met werknemers die optimaal ondersteund worden om gezond te leven. Gezonde werknemers presteren beter\, verzuimen minder en dragen bij aan meer innovatie. Dat maakt een onderneming of organisatie op de lange termijn succesvoller en duurzamer. Dit is zeer nodig\, gezien de dubbele vergrijzing\, grotere druk op de mienskip en enorme krapte op de arbeidsmarkt. \n\n\n\nGrote en kleine verschilmakers in gezondheid\n\n\n\nEr zijn 2 categorieën bij de Fitte Friezen Award\, zodat ook bedrijven zonder HR-professional een eerlijke kans maken. De jury beoordeelt de organisaties op 5 pijlers van gezond werkgeverschap: \n\n\n\n\nfinanciële gezondheid\n\n\n\nfysieke en mentale gezondheid\n\n\n\nontwikkeling\n\n\n\nmensgericht leiderschap \n\n\n\nmaatschappelijke bijdrage\n\n\n\n\nAlle Friese bedrijven die actief aan de slag zijn met gezond werkgeverschap\, ongeacht hoe hoog ze hierop scoren\, zijn van harte welkom om zich aan te melden voor de Fitte Friezen Award.  \n\n\n\nInspirerende uitreiking 18 juni\n\n\n\nDe feestelijke uitreiking vindt op donderdag 18 juni plaats in het Maxima Centrum in Burgum. Tijdens deze inspirerende lunchbijeenkomst kunnen werkgevers\, managers en andere betrokkenen met elkaar netwerken\, kennis opdoen en meevieren met de winnaars dat gezondheid in onze provincie op nummer 1 staat. Het programma is van 12.00-14.00 uur en we starten met een gezonde lunch. \n\n\n\nDeze editie wordt georganiseerd door: Friese Preventie Aanpak\, Fries Financieel Fundament\, Fryslân Werkt\, Rabobank\, De Friesland\, VNO-NCW / MKB Noord & leefstijlcoach Mettje Dam. \n\n\n\n\n\n\n  \n      \n      \n\nAanmelden Fitte Friezen Award 2026\n\n\n\n\n\n  \n    \n\n                \n            Wil je meedingen naar de Fitte Friezen Award 2026? Aanmelden kan tot 18 mei 2026                      \n      \n    \n\n  \n \n\n\n \n\n\n\n\n\n  \n    \n\n                \n            Wil je alleen de uitreiking bijwonen? Meld je dan hier aan                      \n      \n    \n\n  \n \n \n      \n   \n\n \n\n\n\n\n\n  \n  \n\n    \n      Eerder nieuws\n       \n      \n    \n\n    \n\n    \n      \n\n      \n                                        \n                    \n\n\n\n    \n\n        \n        \n                    \n\n                \n\n    \n\n                \n        \n        \n            Van Wijnen wint 1e Fitte Friezen Award        \n\n        Deze lunchsessie vond plaats in het kader van de Week van de Friese Preventieaanpak: een passend moment om stil te staan bij de rol van werkgevers in het bevorderen van gezondheid op de werkvloer. \n\n        \n            Lees meer\n            \n        \n    \n\n  \n                  \n                                \n                    \n\n\n\n    \n\n        \n        \n                    \n\n                \n\n    \n\n                \n        \n        \n            Onderzoek maatschappelijke waarde Werkcentrum Fryslân        \n\n        Om goed zicht te krijgen op wat de samenwerking binnen Werkcentrum Fryslân inwoners\, werkgevers en partners oplevert\, voert onderzoeksbureau Purpose een Maatschappelijke Kosten-Batenanalyse (MKBA) uit.  \n\n        \n            Lees meer\n            \n        \n    \n\n  \n                  \n                                \n                    \n\n\n\n    \n\n        \n        \n                    \n\n                \n\n    \n\n                \n        \n        \n            Voortgangsrapportage 2025        \n\n        Deze Voortgangsrapportage beschrijft de voortgang van de 4 speerpunten uit onze Meerjarenagenda t/m het einde van 2025.  \n\n        \n            Lees meer
URL:https://fryslanwerkt.nl/agenda/fitte-friezen-award-2026/
ATTACH;FMTTYPE=image/jpeg:https://fryslanwerkt.nl/wp-content/uploads/2026/04/Fitte-friezen-4.0-scaled.jpg
END:VEVENT
END:VCALENDAR